BEGIN:VCALENDAR
VERSION:2.0
PRODID:-//Sabre//Sabre VObject 4.5.8//EN
CALSCALE:GREGORIAN
BEGIN:VTIMEZONE
TZID:Europe/Zurich
X-LIC-LOCATION:Europe/Zurich
TZURL:http://tzurl.org/zoneinfo/Europe/Zurich
BEGIN:DAYLIGHT
TZOFFSETFROM:+0100
TZOFFSETTO:+0200
TZNAME:CEST
DTSTART:19810329T020000
RRULE:FREQ=YEARLY;BYMONTH=3;BYDAY=-1SU
END:DAYLIGHT
BEGIN:STANDARD
TZOFFSETFROM:+0200
TZOFFSETTO:+0100
TZNAME:CET
DTSTART:19961027T030000
RRULE:FREQ=YEARLY;BYMONTH=10;BYDAY=-1SU
END:STANDARD
END:VTIMEZONE
BEGIN:VEVENT
UID:news1667@dgw.philhist.unibas.ch
DTSTAMP;TZID=Europe/Zurich:20250919T185335
DTSTART;VALUE=DATE:20250926
SUMMARY:Writing 9 to 5
DESCRIPTION:We meet and spend the day together from 9am to 5pm\, each perso
 n working on their own thesis (with coffee\, snacks and collective concent
 ration)\\r\\nLocation: tba
X-ALT-DESC:<p>We meet and spend the day together <strong>from 9am to 5pm\,<
 /strong> each person working on their own thesis (with coffee\, snacks and
  collective concentration)</p>\n<p><strong>Location:</strong> tba</p>
DTEND;VALUE=DATE:20250926
END:VEVENT
END:VCALENDAR
