BEGIN:VCALENDAR
VERSION:2.0
PRODID:-//Sabre//Sabre VObject 4.5.8//EN
CALSCALE:GREGORIAN
BEGIN:VTIMEZONE
TZID:Europe/Zurich
X-LIC-LOCATION:Europe/Zurich
TZURL:http://tzurl.org/zoneinfo/Europe/Zurich
BEGIN:DAYLIGHT
TZOFFSETFROM:+0100
TZOFFSETTO:+0200
TZNAME:CEST
DTSTART:19810329T020000
RRULE:FREQ=YEARLY;BYMONTH=3;BYDAY=-1SU
END:DAYLIGHT
BEGIN:STANDARD
TZOFFSETFROM:+0200
TZOFFSETTO:+0100
TZNAME:CET
DTSTART:19961027T030000
RRULE:FREQ=YEARLY;BYMONTH=10;BYDAY=-1SU
END:STANDARD
END:VTIMEZONE
BEGIN:VEVENT
UID:news846@dgw.philhist.unibas.ch
DTSTAMP;TZID=Europe/Zurich:20220426T150403
DTSTART;TZID=Europe/Zurich:20220513T180000
SUMMARY:Symposium zur Emeritierung von Prof. Dr. Andrea Maihofer
DESCRIPTION:Am Freitag und Samstag\, 13. – 14. Mai\, wird das Zentrum Gen
 der Studies ein Symposium zur Emeritierung von Prof. Dr. Andrea Maihofer v
 eranstalten. Die Veranstaltung hat den Titel „Geschlechterforschung als 
 kritische Wissenschaft in autoritär-populistischen Zeiten“.
X-ALT-DESC:Am Freitag und Samstag\, 13. – 14. Mai\, wird das Zentrum Gend
 er Studies ein Symposium zur Emeritierung von Prof. Dr. Andrea Maihofer ve
 ranstalten. Die Veranstaltung hat den Titel „Geschlechterforschung als k
 ritische Wissenschaft in autoritär-populistischen Zeiten“.\n
DTEND;TZID=Europe/Zurich:20220514T200000
END:VEVENT
END:VCALENDAR
