BEGIN:VCALENDAR
VERSION:2.0
PRODID:-//Sabre//Sabre VObject 4.5.8//EN
CALSCALE:GREGORIAN
BEGIN:VTIMEZONE
TZID:Europe/Zurich
X-LIC-LOCATION:Europe/Zurich
TZURL:http://tzurl.org/zoneinfo/Europe/Zurich
BEGIN:DAYLIGHT
TZOFFSETFROM:+0100
TZOFFSETTO:+0200
TZNAME:CEST
DTSTART:19810329T020000
RRULE:FREQ=YEARLY;BYMONTH=3;BYDAY=-1SU
END:DAYLIGHT
BEGIN:STANDARD
TZOFFSETFROM:+0200
TZOFFSETTO:+0100
TZNAME:CET
DTSTART:19961027T030000
RRULE:FREQ=YEARLY;BYMONTH=10;BYDAY=-1SU
END:STANDARD
END:VTIMEZONE
BEGIN:VEVENT
UID:news1604@dgw.philhist.unibas.ch
DTSTAMP;TZID=Europe/Zurich:20250416T173747
DTSTART;TZID=Europe/Zurich:20250415T121500
SUMMARY:Noon-Talk "Publishing"
DESCRIPTION:Input by Silke Bellanger from our University Library on Op
 en Access publishing.\\r\\nPlease join us on Zoom via this link: https://
 unibas.zoom.us/j/68965313379 [https://unibas.zoom.us/j/68965313379] \\r\\
 nProgramm:\\r\\nPublishing  - or what to know about Open Access and how t
 o do it?\\r\\nThe Noon Talk will offer an overview of Open Access and the 
 implications for your work. We will address:\\r\\n 	OA basics 	OA Journals
  and Books 	OA & Financing 	OA & Scholarly-led publishing \\r\\nThere will
  be time for discussion and questions. If you have any special inquiries 
 beyond the above program\, please write to: openaccess@unibas.ch [mailto:
 openaccess@unibas.ch]
X-ALT-DESC:<p>Input by<strong>&nbsp\;</strong>Silke&nbsp\;Bellanger&nbsp\;f
 rom our University Library&nbsp\;on&nbsp\;Open Access publishing.</p>\n<p>
 Please join us on Zoom via this link:&nbsp\;<a href="https://unibas.zoom.u
 s/j/68965313379" target="_blank">https://unibas.zoom.us/j/68965313379</a>&
 nbsp\;</p>\n<p><u>Programm:</u></p>\n<p>Publishing&nbsp\; - or what to kno
 w about Open Access and how to do it?</p>\n<p>The Noon Talk will offer an 
 overview of Open Access and the implications for your work. We will addres
 s:</p>\n<ul> 	<li><span><span>OA basics</span></span></li> 	<li><span><spa
 n>OA Journals and Books</span></span></li> 	<li><span><span>OA &amp\; Fina
 ncing</span></span></li> 	<li><span><span>OA &amp\; Scholarly-led publishi
 ng</span></span></li> </ul>\n<p>There will be time for discussion and ques
 tions.&nbsp\;If you have any special inquiries beyond the above program\, 
 please write to:&nbsp\;<a href="mailto:openaccess@unibas.ch" target="_blan
 k">openaccess@unibas.ch</a></p>
DTEND;TZID=Europe/Zurich:20250415T131500
END:VEVENT
END:VCALENDAR
