BEGIN:VCALENDAR
VERSION:2.0
PRODID:-//Sabre//Sabre VObject 4.5.8//EN
CALSCALE:GREGORIAN
BEGIN:VTIMEZONE
TZID:Europe/Zurich
X-LIC-LOCATION:Europe/Zurich
TZURL:http://tzurl.org/zoneinfo/Europe/Zurich
BEGIN:DAYLIGHT
TZOFFSETFROM:+0100
TZOFFSETTO:+0200
TZNAME:CEST
DTSTART:19810329T020000
RRULE:FREQ=YEARLY;BYMONTH=3;BYDAY=-1SU
END:DAYLIGHT
BEGIN:STANDARD
TZOFFSETFROM:+0200
TZOFFSETTO:+0100
TZNAME:CET
DTSTART:19961027T030000
RRULE:FREQ=YEARLY;BYMONTH=10;BYDAY=-1SU
END:STANDARD
END:VTIMEZONE
BEGIN:VEVENT
UID:news1605@dgw.philhist.unibas.ch
DTSTAMP;TZID=Europe/Zurich:20250416T174653
DTSTART;TZID=Europe/Zurich:20250422T121500
SUMMARY:Noon-Talk "Ask the Professor"
DESCRIPTION:Prof. Stefanie Bailer will give us insights into her own wri
 ting process and will share her experiences with writing academic texts.
  There will be time for questions and exchange. This is an excellent oppor
 tunity for those of you who are curious about how experienced academics st
 art and develop their texts!\\r\\nPlease note that access to the building 
 is tricky. Therefore\, please send an email to j.buechele@unibas.ch [mail
 to:j.buechele@unibas.ch] if you would like to join this event.
X-ALT-DESC:<p>Prof. Stefanie Bailer&nbsp\;will give us insights into&nbsp\;
 her&nbsp\;own writing process and will share&nbsp\;her&nbsp\;experiences w
 ith writing academic texts. There will be time for questions and exchange.
  This is an excellent opportunity for those of you who are curious about h
 ow experienced academics start and develop their texts!</p>\n<p>Please not
 e that access to the building is tricky. Therefore\, please send an&nbsp\;
 email to <a href="mailto:j.buechele@unibas.ch" title="E-Mail Julia Büchel
 e">j.buechele@unibas.ch</a>&nbsp\;if&nbsp\;you would like to join this eve
 nt.</p>
DTEND;TZID=Europe/Zurich:20250422T131500
END:VEVENT
END:VCALENDAR
