BEGIN:VCALENDAR
VERSION:2.0
PRODID:-//Sabre//Sabre VObject 4.5.8//EN
CALSCALE:GREGORIAN
BEGIN:VTIMEZONE
TZID:Europe/Zurich
X-LIC-LOCATION:Europe/Zurich
TZURL:http://tzurl.org/zoneinfo/Europe/Zurich
BEGIN:DAYLIGHT
TZOFFSETFROM:+0100
TZOFFSETTO:+0200
TZNAME:CEST
DTSTART:19810329T020000
RRULE:FREQ=YEARLY;BYMONTH=3;BYDAY=-1SU
END:DAYLIGHT
BEGIN:STANDARD
TZOFFSETFROM:+0200
TZOFFSETTO:+0100
TZNAME:CET
DTSTART:19961027T030000
RRULE:FREQ=YEARLY;BYMONTH=10;BYDAY=-1SU
END:STANDARD
END:VTIMEZONE
BEGIN:VEVENT
UID:news1258@dgw.philhist.unibas.ch
DTSTAMP;TZID=Europe/Zurich:20231221T140003
DTSTART;TZID=Europe/Zurich:20240131T170000
SUMMARY:Meet-up congresses and international relations
DESCRIPTION:Organizing a scientific conference is an important career step 
 for researchers. The University of Basel would therefore like to offer sup
 port in this area. Together with the Convention Bureau of Basel Tourism\, 
 we would like to show you on Wednesday\, 31 January from 17:00-18:00 how w
 e can support you in organizing a conference. Afterwards we invite you to 
 an aperitif. The event will be held in English\, an invitation with detail
 s of the program will follow at the beginning of January.
X-ALT-DESC:Organizing a scientific conference is an important career step f
 or researchers. The University of Basel would therefore like to offer supp
 ort in this area. Together with the Convention Bureau of Basel Tourism\, w
 e would like to show you on Wednesday\, 31 January from 17:00-18:00 how we
  can support you in organizing a conference. Afterwards we invite you to a
 n aperitif. The event will be held in English\, an invitation with details
  of the program will follow at the beginning of January.\n
DTEND;TZID=Europe/Zurich:20240131T180000
END:VEVENT
END:VCALENDAR
