BEGIN:VCALENDAR
VERSION:2.0
PRODID:-//Sabre//Sabre VObject 4.5.8//EN
CALSCALE:GREGORIAN
BEGIN:VTIMEZONE
TZID:Europe/Zurich
X-LIC-LOCATION:Europe/Zurich
TZURL:http://tzurl.org/zoneinfo/Europe/Zurich
BEGIN:DAYLIGHT
TZOFFSETFROM:+0100
TZOFFSETTO:+0200
TZNAME:CEST
DTSTART:19810329T020000
RRULE:FREQ=YEARLY;BYMONTH=3;BYDAY=-1SU
END:DAYLIGHT
BEGIN:STANDARD
TZOFFSETFROM:+0200
TZOFFSETTO:+0100
TZNAME:CET
DTSTART:19961027T030000
RRULE:FREQ=YEARLY;BYMONTH=10;BYDAY=-1SU
END:STANDARD
END:VTIMEZONE
BEGIN:VEVENT
UID:news1525@dgw.philhist.unibas.ch
DTSTAMP;TZID=Europe/Zurich:20260317T004031
DTSTART;TZID=Europe/Zurich:20250303T101500
SUMMARY:Get it done!
DESCRIPTION:Writing – and finishing writing! – a PhD is a very challeng
 ing endeavor. This course faces this challenge head on and aims at support
 ing members of the Graduate School of Social Sciences (G3S) in finalizing 
 their PhD theses. Key topics include time management\, strategies and tric
 ks for the final revision process\, help with administrative issues and pe
 er support. Additionally\, there will be room to reflect on individual pro
 blems\, practical and emotional challenges and solution strategies. Beside
 s the meetings in class throughout the semester\, participants have the po
 ssibility to meet the lecturers individually to get additional advice.\\r\
 \nThis course is open for G3S members aiming at finishing their thesis in 
 summer 2026! The number of participants will be limited to 10 persons.\\r\
 \nIf you are interested in attending this course\, please write an email i
 ncluding your motivation and a short statement on the progress of your wor
 k (approx. 1 page) to Michelle Engeler (michelle.engeler@unibas.ch [mailto
 :michelle.engeler@unibas.ch]) until 8 February 2026.
X-ALT-DESC:<p>Writing – and finishing writing! – a PhD is a very challe
 nging endeavor. This course faces this challenge head on and aims at suppo
 rting members of the Graduate School of Social Sciences (G3S) in finalizin
 g their PhD theses. Key topics include time management\, strategies and tr
 icks for the final revision process\, help with administrative issues and 
 peer support. Additionally\, there will be room to reflect on individual p
 roblems\, practical and emotional challenges and solution strategies. Besi
 des the meetings in class throughout the semester\, participants have the 
 possibility to meet the lecturers individually to get additional advice.</
 p>\n<p>This course is open for G3S members aiming at finishing their thesi
 s in summer 2026! The number of participants will be limited to 10 persons
 .</p>\n<p>If you are interested in attending this course\, please write an
  email including your motivation and a short statement on the progress of 
 your work (approx. 1 page) to Michelle Engeler (<a href="mailto:michelle.e
 ngeler@unibas.ch">michelle.engeler@unibas.ch</a>) until 8 February 2026.</
 p>
DTEND;TZID=Europe/Zurich:20250505T120000
END:VEVENT
END:VCALENDAR
