BEGIN:VCALENDAR
VERSION:2.0
PRODID:-//Sabre//Sabre VObject 4.5.8//EN
CALSCALE:GREGORIAN
BEGIN:VTIMEZONE
TZID:Europe/Zurich
X-LIC-LOCATION:Europe/Zurich
TZURL:http://tzurl.org/zoneinfo/Europe/Zurich
BEGIN:DAYLIGHT
TZOFFSETFROM:+0100
TZOFFSETTO:+0200
TZNAME:CEST
DTSTART:19810329T020000
RRULE:FREQ=YEARLY;BYMONTH=3;BYDAY=-1SU
END:DAYLIGHT
BEGIN:STANDARD
TZOFFSETFROM:+0200
TZOFFSETTO:+0100
TZNAME:CET
DTSTART:19961027T030000
RRULE:FREQ=YEARLY;BYMONTH=10;BYDAY=-1SU
END:STANDARD
END:VTIMEZONE
BEGIN:VEVENT
UID:news843@dgw.philhist.unibas.ch
DTSTAMP;TZID=Europe/Zurich:20220426T142541
DTSTART;TZID=Europe/Zurich:20220527T130000
SUMMARY:Farewell Symposium in Honor of Prof. Dr. Till Förster
DESCRIPTION:We are pleased to celebrate Professor Till Förster's distingui
 shed career spanning over 20 years at the Institute of Social Anthropology
 . The institute will host a symposium to honor his research and teaching c
 ontributions on May 27th\, 2022 at 1 pm.
X-ALT-DESC:We are pleased to celebrate Professor Till Förster's distinguis
 hed career spanning over 20 years at the Institute of Social Anthropology.
  The institute will host a symposium to honor his research and teaching co
 ntributions on May 27th\, 2022 at 1 pm.\n
DTEND;TZID=Europe/Zurich:20220527T180000
END:VEVENT
END:VCALENDAR
