BEGIN:VCALENDAR
VERSION:2.0
PRODID:-//Sabre//Sabre VObject 4.5.8//EN
CALSCALE:GREGORIAN
BEGIN:VTIMEZONE
TZID:Europe/Zurich
X-LIC-LOCATION:Europe/Zurich
TZURL:http://tzurl.org/zoneinfo/Europe/Zurich
BEGIN:DAYLIGHT
TZOFFSETFROM:+0100
TZOFFSETTO:+0200
TZNAME:CEST
DTSTART:19810329T020000
RRULE:FREQ=YEARLY;BYMONTH=3;BYDAY=-1SU
END:DAYLIGHT
BEGIN:STANDARD
TZOFFSETFROM:+0200
TZOFFSETTO:+0100
TZNAME:CET
DTSTART:19961027T030000
RRULE:FREQ=YEARLY;BYMONTH=10;BYDAY=-1SU
END:STANDARD
END:VTIMEZONE
BEGIN:VEVENT
UID:news847@dgw.philhist.unibas.ch
DTSTAMP;TZID=Europe/Zurich:20220426T151759
DTSTART;TZID=Europe/Zurich:20220506T190000
SUMMARY:"Duvarlar – Mauern – Walls" von Can Candan
DESCRIPTION:In einer Filmvorführung am Seminar für Nahoststudien wird der
  Dokumentarfilm «Duvarlar – Mauern – Walls» von Can Candan gezeigt s
 owie ein Gespräch mit dem Regisseur geführt. Um Anmeldung wird gebeten.
X-ALT-DESC:In einer Filmvorführung am Seminar für Nahoststudien wird der 
 Dokumentarfilm «Duvarlar – Mauern – Walls» von Can Candan gezeigt so
 wie ein Gespräch mit dem Regisseur geführt. Um Anmeldung wird gebeten.\n
END:VEVENT
END:VCALENDAR
