BEGIN:VCALENDAR
VERSION:2.0
PRODID:-//Sabre//Sabre VObject 4.5.8//EN
CALSCALE:GREGORIAN
BEGIN:VTIMEZONE
TZID:Europe/Zurich
X-LIC-LOCATION:Europe/Zurich
TZURL:http://tzurl.org/zoneinfo/Europe/Zurich
BEGIN:DAYLIGHT
TZOFFSETFROM:+0100
TZOFFSETTO:+0200
TZNAME:CEST
DTSTART:19810329T020000
RRULE:FREQ=YEARLY;BYMONTH=3;BYDAY=-1SU
END:DAYLIGHT
BEGIN:STANDARD
TZOFFSETFROM:+0200
TZOFFSETTO:+0100
TZNAME:CET
DTSTART:19961027T030000
RRULE:FREQ=YEARLY;BYMONTH=10;BYDAY=-1SU
END:STANDARD
END:VTIMEZONE
BEGIN:VEVENT
UID:news1556@dgw.philhist.unibas.ch
DTSTAMP;TZID=Europe/Zurich:20250317T140838
DTSTART;TZID=Europe/Zurich:20250424T181500
SUMMARY:Bridging the Divide: Reimagining Researchers and Research Practices
  through Feminist Ethics of Care and Institutional Responsibility
DESCRIPTION:Luisa Schneider (VU Amsterdam) will be speaking on “Bridging 
 the Divide: Reimagining Researchers and Research Practices through Feminis
 t Ethics of Care and Institutional Responsibility” on April 24 2025 (see
  attached flyer for more information).\\r\\nDr. Luisa T. Schneider is an A
 ssistant Professor of Social and Cultural Anthropology at the Vrije Univer
 sity Amsterdam. She completed her doctorate in anthropology at the Univers
 ity of Oxford in 2019. She specializes in the anthropology of intimacy\, v
 iolence and law and has conducted ethnographic research in Sierra Leone si
 nce 2011 and in Germany since 2018. Through combining empirical research w
 ith conceptual synthesis\, Luisa Schneider studies how people negotiate th
 e space to live their most intimate needs on various levels of social and 
 legal organisation.   This event is cooperatively hosted by the Institute
  of Social Anthropology\, the Centre for Africa Studies\, and the Centre f
 or Gender Studies\, all from the University of Basel.\\r\\nDate: Thursday\
 , April 24 Time: 6:15 p.m. Location: Markthalle Basel\, Salon (Steinentorb
 erg 20\, 4051 Basel)\\r\\nRegistration: No registration is required for th
 e public talk.\\r\\nFor the Apéro demi riche\, please register by April 1
 0 by e-mail to ggsb-genderstudies@unibas.ch [mailto:ggsb-genderstudies@uni
 bas.ch] (subject: Apéro\, Markthalle Salon).\\r\\nFor further information
 \, you may also contact Anna K. Kraft via e-mail: annakerstin.kraft@unibas
 .ch [mailto:annakerstin.kraft@unibas.ch].
X-ALT-DESC:<p>Luisa Schneider (VU Amsterdam) will be speaking on “Bridgin
 g the Divide: Reimagining Researchers and Research Practices through Femin
 ist Ethics of Care and Institutional Responsibility” on April 24 2025 (s
 ee attached flyer for more information).</p>\n<p>Dr. Luisa T. Schneider is
  an Assistant Professor of Social and Cultural Anthropology at the Vrije U
 niversity Amsterdam. She completed her doctorate in anthropology at the Un
 iversity of Oxford in 2019. She specializes in the anthropology of intimac
 y\, violence and law and has conducted ethnographic research in Sierra Leo
 ne since 2011 and in Germany since 2018. Through combining empirical resea
 rch with conceptual synthesis\, Luisa Schneider studies how people negotia
 te the space to live their most intimate needs on various levels of social
  and legal organisation.&nbsp\;<br /> <br /> This event is cooperatively h
 osted by the Institute of Social Anthropology\, the Centre for Africa Stud
 ies\, and the Centre for Gender Studies\, all from the University of Basel
 .</p>\n<p><strong>Date:</strong> Thursday\, April 24<br /> <strong>Time:</
 strong> 6:15 p.m.<br /> <strong>Location:</strong> Markthalle Basel\, Salo
 n (Steinentorberg 20\, 4051 Basel)</p>\n<p><strong>Registration:</strong> 
 No registration is required for the public talk.</p>\n<p><strong>For the A
 péro demi riche\, please register by April 10</strong> by e-mail to <a hr
 ef="mailto:ggsb-genderstudies@unibas.ch" title="E-Mail Gender Studies">ggs
 b-genderstudies@unibas.ch</a> (subject: Apéro\, Markthalle Salon).</p>\n<
 p>For further information\, you may also contact Anna K. Kraft via e-mail:
  <a href="mailto:annakerstin.kraft@unibas.ch" title="E-Mail Anna Kerstin K
 raft">annakerstin.kraft@unibas.ch</a>.</p>
DTEND;TZID=Europe/Zurich:20250424T000000
END:VEVENT
END:VCALENDAR
