BEGIN:VCALENDAR
VERSION:2.0
PRODID:-//Sabre//Sabre VObject 4.5.8//EN
CALSCALE:GREGORIAN
BEGIN:VTIMEZONE
TZID:Europe/Zurich
X-LIC-LOCATION:Europe/Zurich
TZURL:http://tzurl.org/zoneinfo/Europe/Zurich
BEGIN:DAYLIGHT
TZOFFSETFROM:+0100
TZOFFSETTO:+0200
TZNAME:CEST
DTSTART:19810329T020000
RRULE:FREQ=YEARLY;BYMONTH=3;BYDAY=-1SU
END:DAYLIGHT
BEGIN:STANDARD
TZOFFSETFROM:+0200
TZOFFSETTO:+0100
TZNAME:CET
DTSTART:19961027T030000
RRULE:FREQ=YEARLY;BYMONTH=10;BYDAY=-1SU
END:STANDARD
END:VTIMEZONE
BEGIN:VEVENT
UID:news1626@dgw.philhist.unibas.ch
DTSTAMP;TZID=Europe/Zurich:20250708T212626
DTSTART;TZID=Europe/Zurich:20250902T130000
SUMMARY:Bridge Proof of Concept Writing Workshop
DESCRIPTION:The “BRIDGE Proof of Concept” funding scheme fosters the fu
 rther development of scientific results to evaluate their market and/or so
 cietal potential. It supports researchers on their way to entrepreneurship
  or their efforts to implement and apply their research results with an ec
 onomic and/or societal partner.\\r\\nIt covers any type of innovation or r
 esearch field\, and consists of 130’000CHF budget for one year plus entr
 epreneurship training/coaching. Applicants can either have obtained a Bach
 elor's or a Master's degree within the last 4 years\, or be a PhD candidat
 e 6 months before their thesis defense and up to 4 years afterwards.\\r\\n
 Date: Tuesday\, 2nd September Time: 13.00 - 15.00 Venue: Kollegienhaus\, 
 Petersgraben 50\, Basel\\r\\nPlease register by email to grants@unibas.ch
  [mailto:grants@unibas.ch]\, indicating the project you would base your ap
 plication on. The number of place for this workshop is limited.\\r\\nProgr
 amme:\\r\\n13.00 Welcome - Gillianne Bowman\, Grants Office\\r\\n13.05 Des
 cription of the grant: Can you apply? What will you get?\\r\\n13.15 A succ
 essful project in Basel – Cristina Loi – Digital Humanities Lab\\r\\n1
 3.30 What is a good project?\\r\\nThe proposal: general and research\, AI 
 use\, IP\, Gillianne Bowman\, Grants office\\r\\nThe proposal: market and 
 business\, Alice Fréton\, Innovation Office\\r\\n14.15 Other offerings - 
 Innosuisse Course and more! - Alice Freton\, Innovation Office\\r\\n14.25 
 Start writing!\\r\\n14.50 Wrap-up\\r\\n15.00 End of the event
X-ALT-DESC:<p>The “BRIDGE Proof of Concept” funding scheme fosters the 
 further development of scientific results to evaluate their market and/or 
 societal potential. It supports researchers on their way to entrepreneursh
 ip or their efforts to implement and apply their research results with an 
 economic and/or societal partner.</p>\n<p>It covers any type of innovation
  or research field\, and consists of 130’000CHF budget for one year plus
  entrepreneurship training/coaching. Applicants can either have obtained a
  Bachelor's or a Master's degree within the last 4 years\, or be a PhD can
 didate 6 months before their thesis defense and up to 4 years afterwards.<
 /p>\n<p><strong>Date:</strong> Tuesday\, 2nd September<br /> <strong>Time:
 </strong>&nbsp\;13.00 - 15.00<br /> <strong>Venue:</strong> Kollegienhaus\
 , Petersgraben 50\, Basel</p>\n<p>Please register by email to&nbsp\;<a hre
 f="mailto:grants@unibas.ch" target="_blank">grants@unibas.ch</a>\, indicat
 ing the project you would base your application on. The number of place fo
 r this workshop is limited.</p>\n<p><strong>Programme:</strong></p>\n<p>13
 .00 Welcome - Gillianne Bowman\, Grants Office</p>\n<p>13.05 Description o
 f the grant: Can you apply? What will you get?</p>\n<p>13.15 A successful 
 project in Basel – Cristina Loi – Digital Humanities Lab</p>\n<p>13.30
  What is a good project?</p>\n<p>The proposal: general and research\, AI u
 se\, IP\, Gillianne Bowman\, Grants office</p>\n<p>The proposal: market an
 d business\, Alice Fréton\, Innovation Office</p>\n<p>14.15 Other offerin
 gs - Innosuisse Course and more! - Alice Freton\, Innovation Office</p>\n<
 p>14.25 Start writing!</p>\n<p>14.50 Wrap-up</p>\n<p>15.00 End of the even
 t</p>
DTEND;TZID=Europe/Zurich:20250902T150000
END:VEVENT
END:VCALENDAR
