BEGIN:VCALENDAR
VERSION:2.0
PRODID:-//Sabre//Sabre VObject 4.5.8//EN
CALSCALE:GREGORIAN
BEGIN:VTIMEZONE
TZID:Europe/Zurich
X-LIC-LOCATION:Europe/Zurich
TZURL:http://tzurl.org/zoneinfo/Europe/Zurich
BEGIN:DAYLIGHT
TZOFFSETFROM:+0100
TZOFFSETTO:+0200
TZNAME:CEST
DTSTART:19810329T020000
RRULE:FREQ=YEARLY;BYMONTH=3;BYDAY=-1SU
END:DAYLIGHT
BEGIN:STANDARD
TZOFFSETFROM:+0200
TZOFFSETTO:+0100
TZNAME:CET
DTSTART:19961027T030000
RRULE:FREQ=YEARLY;BYMONTH=10;BYDAY=-1SU
END:STANDARD
END:VTIMEZONE
BEGIN:VEVENT
UID:news1611@dgw.philhist.unibas.ch
DTSTAMP;TZID=Europe/Zurich:20250514T152929
DTSTART;TZID=Europe/Zurich:20250527T121500
SUMMARY:Sustainability Across Space and Time: What two Christian Farms in t
 he Rural USA can Teach us about ‘Green Religion’
DESCRIPTION:Title: Sustainability Across Space and Time: What two Christia
 n Farms in the Rural USA can Teach us about ‘Green Religion’\\r\\nPres
 enter: Julius Malin\\r\\nDate: May 27th\\r\\nTime: 12:15 - 13:15\\r\\nVe
 nue: Zoom
X-ALT-DESC:<p><strong>Title:&nbsp\;</strong>Sustainability Across Space and
  Time: What two Christian Farms in the Rural USA can Teach us about ‘Gre
 en Religion’</p>\n<p><strong>Presenter:&nbsp\;</strong>Julius Malin</p>\
 n<p><strong>Date:</strong> May 27th</p>\n<p><strong>Time:&nbsp\;</strong>1
 2:15 - 13:15</p>\n<p><strong>Venue:&nbsp\;</strong>Zoom</p>
DTEND;TZID=Europe/Zurich:20250527T131500
END:VEVENT
END:VCALENDAR
