BEGIN:VCALENDAR
VERSION:2.0
PRODID:-//Sabre//Sabre VObject 4.5.8//EN
CALSCALE:GREGORIAN
BEGIN:VTIMEZONE
TZID:Europe/Zurich
X-LIC-LOCATION:Europe/Zurich
TZURL:http://tzurl.org/zoneinfo/Europe/Zurich
BEGIN:DAYLIGHT
TZOFFSETFROM:+0100
TZOFFSETTO:+0200
TZNAME:CEST
DTSTART:19810329T020000
RRULE:FREQ=YEARLY;BYMONTH=3;BYDAY=-1SU
END:DAYLIGHT
BEGIN:STANDARD
TZOFFSETFROM:+0200
TZOFFSETTO:+0100
TZNAME:CET
DTSTART:19961027T030000
RRULE:FREQ=YEARLY;BYMONTH=10;BYDAY=-1SU
END:STANDARD
END:VTIMEZONE
BEGIN:VEVENT
UID:news1660@dgw.philhist.unibas.ch
DTSTAMP;TZID=Europe/Zurich:20250918T145805
DTSTART;VALUE=DATE:20251008
SUMMARY:Gegen/Moderne. Kulturkämpfe um die Gegenwart
DESCRIPTION:Gerne machen wir euch auf die interdisziplinäre Konferenz „G
 egen/Moderne. Kulturkämpfe um die Gegenwart“ aufmerksam\, die vom 8. bi
 s 10. Oktober an der Universität Basel stattfinden wird.\\r\\nDie Konfere
 nz wird vom Lehrstuhl für Sozialstrukturanalyse im Fachbereich Soziologie
  (Prof. Oliver Nachtwey und Johannes Truffer) und dem Deutschen Seminar (D
 r. Carolin Amlinger) der Universität Basel in Kooperation mit dem Institu
 t für Sozialforschung der Johann Wolfgang Goethe-Universität Frankfurt a
 m Main ausgerichtet.\\r\\nZiel der Veranstaltung ist es\, verschiedene Wis
 senschaftler:innen zusammenzubringen\, um die aktuell ubiquitär angefocht
 enen Gesellschaften unserer Gegenwart besser zu verstehen.\\r\\nIn fünf P
 anels und sieben Workshops werden wir zentrale Phänomene\, Fragen und Her
 ausforderungen der„Gegen/Moderne“ gemeinsam diskutieren.\\r\\nAnbei fi
 ndet ihr den Flyer und das detaillierte Programm.
X-ALT-DESC:<p>Gerne machen wir euch auf die interdisziplinäre Konferenz <s
 trong>„Gegen/Moderne. Kulturkämpfe um die Gegenwart“</strong> aufmerk
 sam\, die vom 8. bis 10. Oktober an der Universität Basel stattfinden wir
 d.</p>\n<p>Die Konferenz wird vom Lehrstuhl für Sozialstrukturanalyse im 
 Fachbereich Soziologie (Prof. Oliver Nachtwey und Johannes Truffer) und de
 m Deutschen Seminar (Dr. Carolin Amlinger) der Universität Basel in Koope
 ration mit dem Institut für Sozialforschung der Johann Wolfgang Goethe-Un
 iversität Frankfurt am Main ausgerichtet.</p>\n<p>Ziel der Veranstaltung 
 ist es\, verschiedene Wissenschaftler:innen zusammenzubringen\, um die akt
 uell ubiquitär angefochtenen Gesellschaften unserer Gegenwart besser zu v
 erstehen.</p>\n<p>In fünf Panels und sieben Workshops werden wir zentrale
  Phänomene\, Fragen und Herausforderungen der„Gegen/Moderne“ gemeinsa
 m diskutieren.</p>\n<p>Anbei findet ihr den Flyer und das detaillierte Pro
 gramm.</p>
DTEND;VALUE=DATE:20251010
END:VEVENT
END:VCALENDAR
