BEGIN:VCALENDAR
VERSION:2.0
PRODID:-//Sabre//Sabre VObject 4.5.8//EN
CALSCALE:GREGORIAN
BEGIN:VTIMEZONE
TZID:Europe/Zurich
X-LIC-LOCATION:Europe/Zurich
TZURL:http://tzurl.org/zoneinfo/Europe/Zurich
BEGIN:DAYLIGHT
TZOFFSETFROM:+0100
TZOFFSETTO:+0200
TZNAME:CEST
DTSTART:19810329T020000
RRULE:FREQ=YEARLY;BYMONTH=3;BYDAY=-1SU
END:DAYLIGHT
BEGIN:STANDARD
TZOFFSETFROM:+0200
TZOFFSETTO:+0100
TZNAME:CET
DTSTART:19961027T030000
RRULE:FREQ=YEARLY;BYMONTH=10;BYDAY=-1SU
END:STANDARD
END:VTIMEZONE
BEGIN:VEVENT
UID:news1588@dgw.philhist.unibas.ch
DTSTAMP;TZID=Europe/Zurich:20250331T162903
DTSTART;TZID=Europe/Zurich:20250429T121500
SUMMARY:Ecosystem Carbon Loss Due to Global Forest Fire: Implications for N
 ational Carbon Accounting and Voluntary Carbon Market
DESCRIPTION:We warmly invite you to the colloquium of the Forum Basiliense 
 in which each of our current fellows will present their work. This year’
 s theme of the Forum Basiliense is "Living in the Anthropocene" and each 
 of our fellows will speak about this theme from a different disciplinary p
 erspective.\\r\\nDate: 29. April Time: 12:15 - 13:45 Venue: Forum Basili
 ense\, Spalenberg 65\, 4051 Basel\, 1st floor Speaker: Sharif Mukul\\r\\n
 For more information\, please see the attached program.
X-ALT-DESC:<p>We warmly invite you to the colloquium of the Forum Basiliens
 e in which each of our current fellows will present their work. This year
 ’s theme of the Forum Basiliense is <strong>"Living in the Anthropocene"
 </strong>&nbsp\;and each of our fellows will speak about this theme from a
  different disciplinary perspective.</p>\n<p><strong>Date:</strong>&nbsp\;
 29. April<br /> <strong>Time:</strong> 12:15 - 13:45<br /> <strong>Venue:&
 nbsp\;</strong>Forum Basiliense\, Spalenberg 65\, 4051 Basel\, 1st floor<b
 r /> <strong>Speaker:</strong>&nbsp\;Sharif Mukul</p>\n<p>For more informa
 tion\, please see the attached program.</p>
DTEND;TZID=Europe/Zurich:20250429T134500
END:VEVENT
END:VCALENDAR
