BEGIN:VCALENDAR
VERSION:2.0
PRODID:-//Sabre//Sabre VObject 4.5.8//EN
CALSCALE:GREGORIAN
BEGIN:VTIMEZONE
TZID:Europe/Zurich
X-LIC-LOCATION:Europe/Zurich
TZURL:http://tzurl.org/zoneinfo/Europe/Zurich
BEGIN:DAYLIGHT
TZOFFSETFROM:+0100
TZOFFSETTO:+0200
TZNAME:CEST
DTSTART:19810329T020000
RRULE:FREQ=YEARLY;BYMONTH=3;BYDAY=-1SU
END:DAYLIGHT
BEGIN:STANDARD
TZOFFSETFROM:+0200
TZOFFSETTO:+0100
TZNAME:CET
DTSTART:19961027T030000
RRULE:FREQ=YEARLY;BYMONTH=10;BYDAY=-1SU
END:STANDARD
END:VTIMEZONE
BEGIN:VEVENT
UID:news1244@dgw.philhist.unibas.ch
DTSTAMP;TZID=Europe/Zurich:20231023T131937
DTSTART;TZID=Europe/Zurich:20231023T170000
SUMMARY:Austausch zum Thema Redefreiheit an der Universität
DESCRIPTION:Die Doktorierenden der G3S laden zu einem Austausch über die R
 edefreiheit an der Universität Basel in Zeiten des Nahost-Konflikts ein: 
 Montag\, 23. Oktober 2023\, 17:00 Uhr\, Hörsaal 114\, Kollegienhaus der U
 niversität Basel.
X-ALT-DESC:<p>Die Doktorierenden der G3S laden zu einem Austausch über die
  Redefreiheit an der Universität Basel in Zeiten des Nahost-Konflikts ein
 : Montag\, 23. Oktober 2023\, 17:00 Uhr\, Hörsaal 114\, Kollegienhaus der
  Universität Basel.</p>
DTEND;TZID=Europe/Zurich:20231023T180000
END:VEVENT
END:VCALENDAR
